View In:
ArcGIS JavaScript
ArcGIS Online Map Viewer
ArcGIS Earth
Service Description: LPC_Web_Scene_New_WEL1
Name: LPC_Web_Scene_New_WEL1
Description:
Single Fused Map Cache: true
Tile Info:
- Height: 256
- Width: 256
- DPI: 96
-
Levels of Detail: 19
-
Level ID: 0
[ Start Tile, End Tile ]
- Resolution: 1005420.2907929756
- Scale: 1.158246491486491E9
-
Level ID: 1
[ Start Tile, End Tile ]
- Resolution: 502710.1453964878
- Scale: 5.791232457432455E8
-
Level ID: 2
[ Start Tile, End Tile ]
- Resolution: 251355.0726982439
- Scale: 2.8956162287162274E8
-
Level ID: 3
[ Start Tile, End Tile ]
- Resolution: 125677.53634912195
- Scale: 1.4478081143581137E8
-
Level ID: 4
[ Start Tile, End Tile ]
- Resolution: 62838.76817456097
- Scale: 7.239040571790569E7
-
Level ID: 5
[ Start Tile, End Tile ]
- Resolution: 31419.384087280487
- Scale: 3.619520285895284E7
-
Level ID: 6
[ Start Tile, End Tile ]
- Resolution: 15709.692043640243
- Scale: 1.809760142947642E7
-
Level ID: 7
[ Start Tile, End Tile ]
- Resolution: 7854.846021820122
- Scale: 9048800.71473821
-
Level ID: 8
[ Start Tile, End Tile ]
- Resolution: 3927.423010910061
- Scale: 4524400.357369105
-
Level ID: 9
[ Start Tile, End Tile ]
- Resolution: 1963.7115054550304
- Scale: 2262200.1786845527
-
Level ID: 10
[ Start Tile, End Tile ]
- Resolution: 981.8557527275152
- Scale: 1131100.0893422763
-
Level ID: 11
[ Start Tile, End Tile ]
- Resolution: 490.9278763637576
- Scale: 565550.0446711382
-
Level ID: 12
[ Start Tile, End Tile ]
- Resolution: 245.4639381818788
- Scale: 282775.0223355691
-
Level ID: 13
[ Start Tile, End Tile ]
- Resolution: 122.7319690909394
- Scale: 141387.51116778454
-
Level ID: 14
[ Start Tile, End Tile ]
- Resolution: 61.3659845454697
- Scale: 70693.75558389227
-
Level ID: 15
[ Start Tile, End Tile ]
- Resolution: 30.68299227273485
- Scale: 35346.877791946135
-
Level ID: 16
[ Start Tile, End Tile ]
- Resolution: 15.341496136367425
- Scale: 17673.438895973068
-
Level ID: 17
[ Start Tile, End Tile ]
- Resolution: 7.670748068183713
- Scale: 8836.719447986534
-
Level ID: 18
[ Start Tile, End Tile ]
- Resolution: 3.8353740340918563
- Scale: 4418.359723993267
- Format: LERC
- Compression Quality: 0.0
- LERC Error: 0.05
- Origin: X: -1.2672529722150084E8
Y: 1.1524462864788455E8
- Spatial Reference: 102740
(2278)
LatestVCSWkid(0)
Storage Info:
- Storage Format: esriMapCacheStorageModeCompactV2
- Packet Size: 128
Extent:
XMin: 2982497.391711273
YMin: 1.3819478364462722E7
XMax: 2988674.391711273
YMax: 1.3820793664462723E7
Spatial Reference: 102740
(2278)
LatestVCSWkid(0)
Initial Extent:
XMin: 2982497.391711273
YMin: 1.3819478364462722E7
XMax: 2988674.391711273
YMax: 1.3820793664462723E7
Spatial Reference: 102740
(2278)
LatestVCSWkid(0)
Full Extent:
XMin: 2982497.391711273
YMin: 1.3819478364462722E7
XMax: 2988674.391711273
YMax: 1.3820793664462723E7
Spatial Reference: 102740
(2278)
LatestVCSWkid(0)
Pixel Size X: 0.05
Pixel Size Y: 0.05000000000002832
Band Count: 1
Pixel Type: F32
RasterFunction Infos: {"rasterFunctionInfos": [{
"name": "None",
"description": "",
"help": ""
}]}
Mensuration Capabilities: Basic
Inspection Capabilities:
Has Histograms: true
Has Colormap: false
Has Multi Dimensions : false
Rendering Rule:
Min Scale: 1.158246491486491E9
Max Scale: 4418.359723993267
Min LOD: 0
Max LOD: 18
Copyright Text:
Service Data Type: esriImageServiceDataTypeGeneric
Min Values: 72.68599700927734
Max Values: 123.56700134277344
Mean Values: 110.40949903411698
Standard Deviation Values: 5.327945999877179
Object ID Field:
Fields:
None
Default Mosaic Method: Center
Allowed Mosaic Methods:
SortField:
SortValue: null
Mosaic Operator: First
Default Compression Quality: 75
Default Resampling Method: Bilinear
Max Record Count: null
Max Image Height: 4100
Max Image Width: 15000
Max Download Image Count: null
Max Mosaic Image Count: null
Allow Raster Function: true
Allow Copy: true
Allow Analysis: true
Allow Compute TiePoints: false
Supports Statistics: false
Supports Advanced Queries: false
Use StandardizedQueries: true
Raster Type Infos:
Name: Raster Dataset
Description: Supports all ArcGIS Raster Datasets
Help:
Has Raster Attribute Table: false
Edit Fields Info: null
Ownership Based AccessControl For Rasters: null
Child Resources:
Info
Histograms
Statistics
Key Properties
Legend
Raster Function Infos
Supported Operations:
Export Image
Identify
Measure
Compute Histograms
Compute Statistics Histograms
Get Samples
Compute Class Statistics
Query Boundary
Compute Pixel Location
Compute Angles
Validate
Project