{
 "currentVersion": 11.5,
 "serviceDescription": "LPC_Web_Scene_New_WEL1",
 "serviceItemId": "af1c0b6bab3f4c49adb1bc6137b230d3",
 "name": "LPC_Web_Scene_New_WEL1",
 "description": "",
 "extent": {
  "xmin": 2982497.391711273,
  "ymin": 1.3819478364462722E7,
  "xmax": 2988674.391711273,
  "ymax": 1.3820793664462723E7,
  "spatialReference": {
   "wkid": 102740,
   "latestWkid": 2278
  }
 },
 "initialExtent": {
  "xmin": 2982497.391711273,
  "ymin": 1.3819478364462722E7,
  "xmax": 2988674.391711273,
  "ymax": 1.3820793664462723E7,
  "spatialReference": {
   "wkid": 102740,
   "latestWkid": 2278
  }
 },
 "fullExtent": {
  "xmin": 2982497.391711273,
  "ymin": 1.3819478364462722E7,
  "xmax": 2988674.391711273,
  "ymax": 1.3820793664462723E7,
  "spatialReference": {
   "wkid": 102740,
   "latestWkid": 2278
  }
 },
 "sortableFields": "",
 "bandCount": 1,
 "pixelType": "F32",
 "minValues": [
  72.68599700927734
 ],
 "maxValues": [
  123.56700134277344
 ],
 "meanValues": [
  110.40949903411698
 ],
 "stdvValues": [
  5.327945999877179
 ],
 "serviceProperties": "Center<\/MosaicMethod>First<\/MosaicOperator>true<\/SortAscending><\/LockImageID><\/TileOrderField>0<\/TileOrderBase>0.000000<\/AvgImageSpacingX>0.000000<\/AvgImageSpacingY>0.0<\/ViewPointX>0.0<\/ViewPointY>0.0<\/ViewPointDefShiftX>0.0<\/ViewPointDefShiftY>None<\/CompressionMethod>75<\/CompressionQuality>0.100000<\/CompressionTolerance>Bilinear<\/SamplingMethod><\/ImageServiceProperties><\/ImageServer>",
 "allowedFields": "",
 "hasMultidimensions": false,
 "pixelSizeX": 0.05,
 "pixelSizeY": 0.05000000000002832,
 "meanPixelSize": 0.015240030480065277,
 "datasetFormat": "FGDBR",
 "uncompressedSize": 12999372960,
 "blockWidth": 128,
 "blockHeight": 128,
 "compressionType": "LZ77",
 "bandNames": [
  "Band_1"
 ],
 "allowCopy": true,
 "allowAnalysis": true,
 "itemAccess": false,
 "inspectionCapabilities": "",
 "minPixelSize": 3.8353740340918563,
 "maxPixelSize": 1005420.2907929756,
 "copyrightText": "",
 "serviceDataType": "esriImageServiceDataTypeGeneric",
 "serviceSourceType": "esriImageServiceSourceTypeDataset",
 "objectIdField": "",
 "fields": [],
 "capabilities": "Image,Metadata,Mensuration",
 "defaultMosaicMethod": "Center",
 "allowedMosaicMethods": "",
 "sortField": "",
 "sortValue": null,
 "sortAscending": true,
 "mosaicOperator": "First",
 "defaultCompressionQuality": 75,
 "defaultResamplingMethod": "Bilinear",
 "maxImageHeight": 4100,
 "maxImageWidth": 15000,
 "singleFusedMapCache": true,
 "tileInfo": {
  "rows": 256,
  "cols": 256,
  "dpi": 96,
  "format": "LERC",
  "compressionQuality": 0,
  "lercError": 0.05,
  "origin": {
   "x": -1.2672529722150084E8,
   "y": 1.1524462864788455E8
  },
  "spatialReference": {
   "wkid": 102740,
   "latestWkid": 2278
  },
  "lods": [
   {
    "level": 0,
    "resolution": 1005420.2907929756,
    "scale": 1.158246491486491E9
   },
   {
    "level": 1,
    "resolution": 502710.1453964878,
    "scale": 5.791232457432455E8
   },
   {
    "level": 2,
    "resolution": 251355.0726982439,
    "scale": 2.8956162287162274E8
   },
   {
    "level": 3,
    "resolution": 125677.53634912195,
    "scale": 1.4478081143581137E8
   },
   {
    "level": 4,
    "resolution": 62838.76817456097,
    "scale": 7.239040571790569E7
   },
   {
    "level": 5,
    "resolution": 31419.384087280487,
    "scale": 3.619520285895284E7
   },
   {
    "level": 6,
    "resolution": 15709.692043640243,
    "scale": 1.809760142947642E7
   },
   {
    "level": 7,
    "resolution": 7854.846021820122,
    "scale": 9048800.71473821
   },
   {
    "level": 8,
    "resolution": 3927.423010910061,
    "scale": 4524400.357369105
   },
   {
    "level": 9,
    "resolution": 1963.7115054550304,
    "scale": 2262200.1786845527
   },
   {
    "level": 10,
    "resolution": 981.8557527275152,
    "scale": 1131100.0893422763
   },
   {
    "level": 11,
    "resolution": 490.9278763637576,
    "scale": 565550.0446711382
   },
   {
    "level": 12,
    "resolution": 245.4639381818788,
    "scale": 282775.0223355691
   },
   {
    "level": 13,
    "resolution": 122.7319690909394,
    "scale": 141387.51116778454
   },
   {
    "level": 14,
    "resolution": 61.3659845454697,
    "scale": 70693.75558389227
   },
   {
    "level": 15,
    "resolution": 30.68299227273485,
    "scale": 35346.877791946135
   },
   {
    "level": 16,
    "resolution": 15.341496136367425,
    "scale": 17673.438895973068
   },
   {
    "level": 17,
    "resolution": 7.670748068183713,
    "scale": 8836.719447986534
   },
   {
    "level": 18,
    "resolution": 3.8353740340918563,
    "scale": 4418.359723993267
   }
  ]
 },
 "storageInfo": {
  "storageFormat": "esriMapCacheStorageModeCompactV2",
  "packetSize": 128
 },
 "cacheType": "Elevation",
 "allowRasterFunction": true,
 "rasterFunctionInfos": [
  {
   "name": "None",
   "description": "",
   "help": ""
  }
 ],
 "rasterTypeInfos": [
  {
   "name": "Raster Dataset",
   "description": "Supports all ArcGIS Raster Datasets",
   "help": ""
  }
 ],
 "mensurationCapabilities": "Basic",
 "hasHistograms": true,
 "hasColormap": false,
 "hasRasterAttributeTable": false,
 "minScale": 1.158246491486491E9,
 "maxScale": 4418.359723993267,
 "minLOD": 0,
 "maxLOD": 18,
 "exportTilesAllowed": false,
 "supportsStatistics": false,
 "supportsAdvancedQueries": false,
 "editFieldsInfo": null,
 "ownershipBasedAccessControlForRasters": null,
 "allowComputeTiePoints": false,
 "useStandardizedQueries": true,
 "advancedQueryCapabilities": {
  "useStandardizedQueries": true,
  "supportsStatistics": false,
  "supportsOrderBy": false,
  "supportsDistinct": false,
  "supportsPagination": false
 },
 "spatialReference": {
  "wkid": 102740,
  "latestWkid": 2278
 }
}
